BEGIN:VCALENDAR
VERSION:2.0
PRODID:DPCALENDAR
CALSCALE:GREGORIAN
BEGIN:VTIMEZONE
TZID:Europe/Zurich
BEGIN:STANDARD
DTSTART:20251026T010000
TZOFFSETFROM:+0200
TZOFFSETTO:+0100
TZNAME:CET
END:STANDARD
BEGIN:STANDARD
DTSTART:20261025T010000
TZOFFSETFROM:+0200
TZOFFSETTO:+0100
TZNAME:CET
END:STANDARD
BEGIN:DAYLIGHT
DTSTART:20260329T010000
TZOFFSETFROM:+0100
TZOFFSETTO:+0200
TZNAME:CEST
END:DAYLIGHT
END:VTIMEZONE
X-WR-TIMEZONE:Europe/Zurich
BEGIN:VEVENT
DTSTART;TZID=Europe/Zurich:20240423T173000
DTEND;TZID=Europe/Zurich:20240423T183000
RRULE:FREQ=WEEKLY;INTERVAL=1;UNTIL=20240708T235900Z
EXDATE:20240430T153000Z,20240507T153000Z,20240514T153000Z,20240521T153000Z,20240528T153000Z,20240604T153000Z,20240611T153000Z,20240618T153000Z,20240625T153000Z,20240702T153000Z
UID:01EBBA47-60F2-499C-9901-0650A7B9545E
SUMMARY:HoopAgi Grundkurs 1
CREATED:20230215T083544Z
DTSTAMP:20230215T083544Z
URL:https://www.funnydogs.ch/index.php/kurse/hoopagi-grundkurs-1
DESCRIPTION:GRUNDKURS 1\NThemen:Theorie HoopAgiGeräteaufbau 1. TeilKommandosEinfache Kombinationen\NTermine:11 Lektionen ab 23. April – JuliDienstag ab 17:30 UhrMin. 3 max. 6 Teilnehmer\NKosten:Fr. 200.-\NLeitung:Katja Lienhard\N{convertforms 9}
X-ALT-DESC;FMTTYPE=text/html:<h2>GRUNDKURS 1</h2>\N<p><strong>Themen:</strong><br />Theorie HoopAgi<br />Geräteaufbau 1. Teil<br />Kommandos<br />Einfache Kombinationen</p>\N<p><strong>Termine:</strong><br />11 Lektionen ab 23. April – Juli<br />Dienstag ab 17:30 Uhr<br />Min. 3 max. 6 Teilnehmer</p>\N<p><strong>Kosten:</strong><br />Fr. 200.-</p>\N<p><strong>Leitung:</strong><br />Katja Lienhard</p>\N<p>{convertforms 9}</p>
LAST-MODIFIED:20240130T194648Z
SEQUENCE:30193864
LOCATION:Birren 1\, 5703 Seon\, Aargau\, Schweiz
GEO:47.36312972;8.16848516
X-LOCATION-DISPLAYNAME:1 Birren, Seon, Aargau 5703, 221
X-ACCESS:1
X-HITS:0
X-COLOR:228736
X-SHOW-END-TIME:1
END:VEVENT
BEGIN:VEVENT
DTSTART;TZID=Europe/Zurich:20240806T173000
DTEND;TZID=Europe/Zurich:20240806T183000
RRULE:FREQ=WEEKLY;INTERVAL=1;UNTIL=20241022T235900Z
EXDATE:20240813T153000Z,20240820T153000Z,20240827T153000Z,20240903T153000Z,20240910T153000Z,20240917T153000Z,20240924T153000Z,20241001T153000Z,20241008T153000Z,20241015T153000Z,20241022T153000Z
UID:10BFC0E3-0045-4ECD-AF10-8AEEECFAF7F4
SUMMARY:HoopAgi Grundkurs 2
CREATED:20230215T083544Z
DTSTAMP:20230215T083544Z
URL:https://www.funnydogs.ch/index.php/kurse/hoopagi-grundkurs-2
DESCRIPTION:GRUNDKURS 2\NThemen:Geräteaufbau 2. TeilKommandosWeitere Kombinationen\NTermine:11 Lektionen August - OktoberDienstag ab 17:30 UhrMin. 3 max. 6 Teilnehmer\NKosten:Fr. 200.-\NTeilnehmer haben Grundkurs 1 besucht oder gleichwertig\NLeitung:Katja Lienhard\N{convertforms 10}
X-ALT-DESC;FMTTYPE=text/html:<h2>GRUNDKURS 2</h2>\N<p><strong>Themen:</strong><br />Geräteaufbau 2. Teil<br />Kommandos<br />Weitere Kombinationen</p>\N<p><strong>Termine:</strong><br />11 Lektionen August - Oktober<br />Dienstag ab 17:30 Uhr<br />Min. 3 max. 6 Teilnehmer</p>\N<p><strong>Kosten:</strong><br />Fr. 200.-</p>\N<p>Teilnehmer haben Grundkurs 1 besucht oder gleichwertig</p>\N<p><strong>Leitung:</strong><br />Katja Lienhard</p>\N<p>{convertforms 10}</p>
LAST-MODIFIED:20240130T195031Z
SEQUENCE:30194087
LOCATION:Birren 1\, 5703 Seon\, Aargau\, Schweiz
GEO:47.36312972;8.16848516
X-LOCATION-DISPLAYNAME:1 Birren, Seon, Aargau 5703, 221
X-ACCESS:1
X-HITS:0
X-COLOR:228736
X-SHOW-END-TIME:1
END:VEVENT
BEGIN:VEVENT
DTSTART;TZID=Europe/Zurich:20260414T174500
DTEND;TZID=Europe/Zurich:20260414T184500
RRULE:FREQ=WEEKLY;INTERVAL=1;UNTIL=20260616T235900Z
UID:F889B9AA-E7F2-4375-BA30-33A155C6DE7F
SUMMARY:Agility Grundkurs 1
CREATED:20230215T083544Z
DTSTAMP:20230215T083544Z
URL:https://www.funnydogs.ch/index.php/kurse/agility-grundkurs-1
DESCRIPTION:GRUNDKURS 1\NThemen:Theorie AgilityGeräteaufbauKommandosEinfache Kombinationen\NTermine:10 Lektionen ab 14. April – 16. Juni (23. + 30. Juni Ersatztermine)Dienstag ab 18:00 UhrMin. 3 max. 6 Teilnehmer\NVoraussetzungen:Mindestalter des Hundes 18 MonateGuter Grundgehorsam\NKosten:Fr. 200.-\NLeitung:Isabella Wohler\N{convertforms 1}
X-ALT-DESC;FMTTYPE=text/html:<h2>GRUNDKURS 1</h2>\N<p><strong>Themen:</strong><br />Theorie Agility<br />Geräteaufbau<br />Kommandos<br />Einfache Kombinationen</p>\N<p><strong>Termine:</strong><br />10 Lektionen ab 14. April – 16. Juni (23. + 30. Juni Ersatztermine)<br />Dienstag ab 18:00 Uhr<br />Min. 3 max. 6 Teilnehmer</p>\N<p><strong>Voraussetzungen:<br /></strong>Mindestalter des Hundes 18 Monate<br />Guter Grundgehorsam</p>\N<p><strong>Kosten:</strong><br />Fr. 200.-</p>\N<p><strong>Leitung:</strong><br />Isabella Wohler</p>\N<p>{convertforms 1}</p>
LAST-MODIFIED:20260316T222909Z
SEQUENCE:97250005
LOCATION:Birren 1\, 5703 Seon\, Aargau\, Schweiz
GEO:47.36312972;8.16848516
X-LOCATION-DISPLAYNAME:1 Birren, Seon, Aargau 5703, 221
X-ACCESS:1
X-HITS:0
X-COLOR:228736
X-SHOW-END-TIME:1
END:VEVENT
BEGIN:VEVENT
DTSTART;TZID=Europe/Zurich:20260804T174500
DTEND;TZID=Europe/Zurich:20260804T184500
RRULE:FREQ=WEEKLY;INTERVAL=1;UNTIL=20261006T235900Z
UID:23783ED4-1B57-4BBD-9CA7-D694527A422B
SUMMARY:Agility Grundkurs 2
CREATED:20230215T083544Z
DTSTAMP:20230215T083544Z
URL:https://www.funnydogs.ch/index.php/kurse/agility-grundkurs-2
DESCRIPTION:GRUNDKURS 2\NThemen:ParcoursbriefingHandwechselVertiefung der erlernten Geräte\NTermine:10 Lektionen 4. August – 6. Oktober (13. + 20. Oktober Ersatztermine)Dienstag ab 18:00 UhrMin. 3 max. 6 Teilnehmer\NTeilnehmer haben Grundkurs 1 besucht oder gleichwertig\NKosten:Fr. 200.-\NLeitung:Isabella Wohler\N {convertforms 2}
X-ALT-DESC;FMTTYPE=text/html:<h2>GRUNDKURS 2</h2>\N<p><strong>Themen:</strong><br />Parcoursbriefing<br />Handwechsel<br />Vertiefung der erlernten Geräte</p>\N<p><strong>Termine:</strong><br />10 Lektionen 4. August – 6. Oktober (13. + 20. Oktober Ersatztermine)<br />Dienstag ab 18:00 Uhr<br />Min. 3 max. 6 Teilnehmer</p>\N<p>Teilnehmer haben Grundkurs 1 besucht oder gleichwertig</p>\N<p><strong>Kosten:</strong><br />Fr. 200.-</p>\N<p><strong>Leitung:</strong><br />Isabella Wohler</p>\N<p>&nbsp;{convertforms 2}</p>
LAST-MODIFIED:20260316T222922Z
SEQUENCE:97250018
LOCATION:Birren 1\, 5703 Seon\, Aargau\, Schweiz
GEO:47.36312972;8.16848516
X-LOCATION-DISPLAYNAME:1 Birren, Seon, Aargau 5703, 221
X-ACCESS:1
X-HITS:0
X-COLOR:228736
X-SHOW-END-TIME:1
END:VEVENT
END:VCALENDAR